Workbook

Sheet 収支計画書（5ヵ年）
C3: 更別村歯科診療所 収支計画書
C4: （令和９年度～令和１３年度の５ケ年の全体計画）
C6: １．総括表
C7: （１）診療業務に要する経費の収支
C9: ①収入の部 | I9: （単位：千円）
C10: 項目 | D10: 令和９年度 | E10: 令和１０年度 | F10: 令和１１年度 | G10: 令和１２年度 | H10: 令和１３年度 | I10: 合計
C11: 医業収入 | D11: =ROUNDUP('収支計画書（Ｒ９）'!C9/1000,0) -> 0 | E11: =ROUNDUP('収支計画書（Ｒ１０）'!C9/1000,0) -> 0 | F11: =ROUNDUP('収支計画書（Ｒ１１）'!C9/1000,0) -> 0 | G11: =ROUNDUP('収支計画書（Ｒ１２）'!C9/1000,0) -> 0 | H11: =ROUNDUP('収支計画書（Ｒ１３）'!C9/1000,0) -> 0 | I11: =SUM(D11:H11) -> 0
C12: 医業外収入 | D12: =ROUNDUP('収支計画書（Ｒ９）'!C16/1000,0) -> 0 | E12: =ROUNDUP('収支計画書（Ｒ１０）'!C16/1000,0) -> 0 | F12: =ROUNDUP('収支計画書（Ｒ１１）'!C16/1000,0) -> 0 | G12: =ROUNDUP('収支計画書（Ｒ１２）'!C16/1000,0) -> 0 | H12: =ROUNDUP('収支計画書（Ｒ１３）'!C16/1000,0) -> 0 | I12: =SUM(D12:H12) -> 0
C14: 収入合計 （ Ａ ） | D14: =SUM(D11:D13) -> 0 | E14: =SUM(E11:E13) -> 0 | F14: =SUM(F11:F13) -> 0 | G14: =SUM(G11:G13) -> 0 | H14: =SUM(H11:H13) -> 0 | I14: =SUM(D14:H14) -> 0
C16: ②支出の部 | I16: （単位：千円）
C17: 項目 | D17: 令和９年度 | E17: 令和１０年度 | F17: 令和１１年度 | G17: 令和１２年度 | H17: 令和１３年度 | I17: 合計
C18: 医業支出 | D18: =ROUNDUP('収支計画書（Ｒ９）'!C26/1000,0) -> 0 | E18: =ROUNDUP('収支計画書（Ｒ１０）'!C26/1000,0) -> 0 | F18: =ROUNDUP('収支計画書（Ｒ１１）'!C26/1000,0) -> 0 | G18: =ROUNDUP('収支計画書（Ｒ１２）'!C26/1000,0) -> 0 | H18: =ROUNDUP('収支計画書（Ｒ１３）'!C26/1000,0) -> 0 | I18: =SUM(D18:H18) -> 0
C19: 医業外支出 | D19: =ROUNDUP('収支計画書（Ｒ９）'!C49/1000,0) -> 0 | E19: =ROUNDUP('収支計画書（Ｒ１０）'!C49/1000,0) -> 0 | F19: =ROUNDUP('収支計画書（Ｒ１１）'!C49/1000,0) -> 0 | G19: =ROUNDUP('収支計画書（Ｒ１２）'!C49/1000,0) -> 0 | H19: =ROUNDUP('収支計画書（Ｒ１３）'!C49/1000,0) -> 0 | I19: =SUM(D19:H19) -> 0
C21: 支出合計 （ Ｂ ） | D21: =SUM(D18:D20) -> 0 | E21: =SUM(E18:E20) -> 0 | F21: =SUM(F18:F20) -> 0 | G21: =SUM(G18:G20) -> 0 | H21: =SUM(H18:H20) -> 0 | I21: =SUM(D21:H21) -> 0
C22: ※ 年度ごとの内訳を「様式第１号の２の収支内訳」に記載してください。
C25: （２）指定管理業務 年度ごとの収支
C27: 項目 | D27: 令和９年度 | E27: 令和１０年度 | F27: 令和１１年度 | G27: 令和１２年度 | H27: 令和１３年度 | I27: 合計
C28: 収入の見込（Ａ） Ｃ | D28: =D14 -> 0 | E28: =E14 -> 0 | F28: =F14 -> 0 | G28: =G14 -> 0 | H28: =H14 -> 0 | I28: =SUM(D28:H28) -> 0
C29: 支出の見込（Ｂ） Ｄ | D29: =D21 -> 0 | E29: =E21 -> 0 | F29: =F21 -> 0 | G29: =G21 -> 0 | H29: =H21 -> 0 | I29: =SUM(D29:H29) -> 0
C30: 収支の見込（Ｃ－Ｄ） | D30: =D28-D29 -> 0 | E30: =E28-E29 -> 0 | F30: =F28-F29 -> 0 | G30: =G28-G29 -> 0 | H30: =H28-H29 -> 0 | I30: =SUM(D30:H30) -> 0

Sheet 収支計画書（Ｒ９）
C3: 更別村歯科診療所 収支計画書
C5: ２．更別村歯科診療所 診療業務の収支内訳書（令和９年度）
C7: ①収入の部 | J7: （単位：円）
C8: 医業収入合計 （Ａ） | E8: 内 容 及 び 積 算 根 拠
C9: =SUM(J9:J14) -> 0 | D9: 円 | K9: 円
K10: 円
K11: 円
K12: 円
K13: 円
K14: 円
C15: 医業外収入合計 （B） | E15: 内 容 及 び 積 算 根 拠
C16: =SUM(J16:J21) -> 0 | D16: 円 | K16: 円
K17: 円
K18: 円
K19: 円
K20: 円
K21: 円
C22: 事業収入合計 （Ａ＋Ｂ＝Ｃ） | J22: =SUM(C9,C16) -> 0 | K22: 円
C24: ②支出の部 | J24: （単位：円）
C25: 医業費用合計（Ｄ=Ｅ+Ｆ+Ｇ） | E25: 内 容 及 び 積 算 根 拠
C26: =SUM(C28,C34,C42) -> 0 | D26: 円
C27: 人件費 計（Ｅ） | K27: 円
C28: =SUM(J27:J32) -> 0 | D28: 円 | K28: 円
K29: 円
K30: 円
K31: 円
K32: 円
C33: 診療経費 計（Ｆ） | K33: 円
C34: =SUM(J33:J40) -> 0 | D34: 円 | K34: 円
K35: 円
K36: 円
K37: 円
K38: 円
K39: 円
K40: 円
C41: 施設維持管理経費 計（Ｇ） | K41: 円
C42: =SUM(J41:J47) -> 0 | D42: 円 | K42: 円
K43: 円
K44: 円
K45: 円
...

Sheet 収支計画書（Ｒ１０）
C3: 更別村歯科診療所 収支計画書
C5: ３．更別村歯科診療所 診療業務の収支内訳書（令和１０年度）
C7: ①収入の部 | J7: （単位：円）
C8: 医業収入合計 （Ａ） | E8: 内 容 及 び 積 算 根 拠
C9: =SUM(J9:J14) -> 0 | D9: 円 | K9: 円
K10: 円
K11: 円
K12: 円
K13: 円
K14: 円
C15: 医業外収入合計 （B） | E15: 内 容 及 び 積 算 根 拠
C16: =SUM(J16:J21) -> 0 | D16: 円 | K16: 円
K17: 円
K18: 円
K19: 円
K20: 円
K21: 円
C22: 事業収入合計 （Ａ＋Ｂ＝Ｃ） | J22: =SUM(C9,C16) -> 0 | K22: 円
C24: ②支出の部 | J24: （単位：円）
C25: 医業費用合計（Ｄ=Ｅ+Ｆ+Ｇ） | E25: 内 容 及 び 積 算 根 拠
C26: =SUM(C28,C34,C42) -> 0 | D26: 円
C27: 人件費 計（Ｅ） | K27: 円
C28: =SUM(J27:J32) -> 0 | D28: 円 | K28: 円
K29: 円
K30: 円
K31: 円
K32: 円
C33: 診療経費 計（Ｆ） | K33: 円
C34: =SUM(J33:J40) -> 0 | D34: 円 | K34: 円
K35: 円
K36: 円
K37: 円
K38: 円
K39: 円
K40: 円
C41: 施設維持管理経費 計（Ｇ） | K41: 円
C42: =SUM(J41:J47) -> 0 | D42: 円 | K42: 円
K43: 円
K44: 円
K45: 円
...

Sheet 収支計画書（Ｒ１１）
C3: 更別村歯科診療所 収支計画書
C5: ４．更別村歯科診療所 診療業務の収支内訳書（令和１１年度）
C7: ①収入の部 | J7: （単位：円）
C8: 医業収入合計 （Ａ） | E8: 内 容 及 び 積 算 根 拠
C9: =SUM(J9:J14) -> 0 | D9: 円 | K9: 円
K10: 円
K11: 円
K12: 円
K13: 円
K14: 円
C15: 医業外収入合計 （B） | E15: 内 容 及 び 積 算 根 拠
C16: =SUM(J16:J21) -> 0 | D16: 円 | K16: 円
K17: 円
K18: 円
K19: 円
K20: 円
K21: 円
C22: 事業収入合計 （Ａ＋Ｂ＝Ｃ） | J22: =SUM(C9,C16) -> 0 | K22: 円
C24: ②支出の部 | J24: （単位：円）
C25: 医業費用合計（Ｄ=Ｅ+Ｆ+Ｇ） | E25: 内 容 及 び 積 算 根 拠
C26: =SUM(C28,C34,C42) -> 0 | D26: 円
C27: 人件費 計（Ｅ） | K27: 円
C28: =SUM(J27:J32) -> 0 | D28: 円 | K28: 円
K29: 円
K30: 円
K31: 円
K32: 円
C33: 診療経費 計（Ｆ） | K33: 円
C34: =SUM(J33:J40) -> 0 | D34: 円 | K34: 円
K35: 円
K36: 円
K37: 円
K38: 円
K39: 円
K40: 円
C41: 施設維持管理経費 計（Ｇ） | K41: 円
C42: =SUM(J41:J47) -> 0 | D42: 円 | K42: 円
K43: 円
K44: 円
K45: 円
...

Sheet 収支計画書（Ｒ１２）
C3: 更別村歯科診療所 収支計画書
C5: ５．更別村歯科診療所 診療業務の収支内訳書（令和１２年度）
C7: ①収入の部 | J7: （単位：円）
C8: 医業収入合計 （Ａ） | E8: 内 容 及 び 積 算 根 拠
C9: =SUM(J9:J14) -> 0 | D9: 円 | K9: 円
K10: 円
K11: 円
K12: 円
K13: 円
K14: 円
C15: 医業外収入合計 （B） | E15: 内 容 及 び 積 算 根 拠
C16: =SUM(J16:J21) -> 0 | D16: 円 | K16: 円
K17: 円
K18: 円
K19: 円
K20: 円
K21: 円
C22: 事業収入合計 （Ａ＋Ｂ＝Ｃ） | J22: =SUM(C9,C16) -> 0 | K22: 円
C24: ②支出の部 | J24: （単位：円）
C25: 医業費用合計（Ｄ=Ｅ+Ｆ+Ｇ） | E25: 内 容 及 び 積 算 根 拠
C26: =SUM(C28,C34,C42) -> 0 | D26: 円
C27: 人件費 計（Ｅ） | K27: 円
C28: =SUM(J27:J32) -> 0 | D28: 円 | K28: 円
K29: 円
K30: 円
K31: 円
K32: 円
C33: 診療経費 計（Ｆ） | K33: 円
C34: =SUM(J33:J40) -> 0 | D34: 円 | K34: 円
K35: 円
K36: 円
K37: 円
K38: 円
K39: 円
K40: 円
C41: 施設維持管理経費 計（Ｇ） | K41: 円
C42: =SUM(J41:J47) -> 0 | D42: 円 | K42: 円
K43: 円
K44: 円
K45: 円
...

Sheet 収支計画書（Ｒ１３）
C3: 更別村歯科診療所 収支計画書
C5: ６．更別村歯科診療所 診療業務の収支内訳書（令和１３年度）
C7: ①収入の部 | J7: （単位：円）
C8: 医業収入合計 （Ａ） | E8: 内 容 及 び 積 算 根 拠
C9: =SUM(J9:J14) -> 0 | D9: 円 | K9: 円
K10: 円
K11: 円
K12: 円
K13: 円
K14: 円
C15: 医業外収入合計 （B） | E15: 内 容 及 び 積 算 根 拠
C16: =SUM(J16:J21) -> 0 | D16: 円 | K16: 円
K17: 円
K18: 円
K19: 円
K20: 円
K21: 円
C22: 事業収入合計 （Ａ＋Ｂ＝Ｃ） | J22: =SUM(C9,C16) -> 0 | K22: 円
C24: ②支出の部 | J24: （単位：円）
C25: 医業費用合計（Ｄ=Ｅ+Ｆ+Ｇ） | E25: 内 容 及 び 積 算 根 拠
C26: =SUM(C28,C34,C42) -> 0 | D26: 円
C27: 人件費 計（Ｅ） | K27: 円
C28: =SUM(J27:J32) -> 0 | D28: 円 | K28: 円
K29: 円
K30: 円
K31: 円
K32: 円
C33: 診療経費 計（Ｆ） | K33: 円
C34: =SUM(J33:J40) -> 0 | D34: 円 | K34: 円
K35: 円
K36: 円
K37: 円
K38: 円
K39: 円
K40: 円
C41: 施設維持管理経費 計（Ｇ） | K41: 円
C42: =SUM(J41:J47) -> 0 | D42: 円 | K42: 円
K43: 円
K44: 円
K45: 円
...
